BEGIN:VCALENDAR
VERSION:2.0
PRODID:-//Agenda Culturel Scène des Mondes//agenda::fr
METHOD:PUBLISH
X-WR-CALNAME:Agenda Culturel Scène des Mondes
X-WR-CALDESC:Toute l'actualité culturelle d'Alès et de son agglomération : conférences\, spectacles\, expositions\, musique...
X-WR-RELCALID:69319016
BEGIN:VEVENT
UID:69319016//25531416//2026-04-29//08:00:00Z
DTSTART:20260429T080000Z
DTEND:20260429T083000Z
DTSTAMP:20260422T141400Z
TZID:Europe-Paris
SUMMARY:Raconte-moi une histoire
DESCRIPTION:Les enfants viennent écouter et partager des histoires. Voir pl
 us: https://openagenda.com/agenda-culturel-scene-des-mondes/events/raconte
 -moi-une-histoire-8540561
STATUS:CONFIRMED
URL:https://openagenda.com/agenda-culturel-scene-des-mondes/events/raconte-
 moi-une-histoire-8540561
LAST-MODIFIED:20260409T140700Z
LOCATION:Médiathèque de Salindres - 31 rue de Cambis\, 30340 Salindres
GEO:44.167632;4.160822
ORGANIZER:OA
END:VEVENT
END:VCALENDAR