BEGIN:VCALENDAR
VERSION:2.0
PRODID:-//Agenda Culturel Scène des Mondes//agenda::fr
METHOD:PUBLISH
X-WR-CALNAME:Agenda Culturel Scène des Mondes
X-WR-CALDESC:Toute l'actualité culturelle d'Alès et de son agglomération : conférences\, spectacles\, expositions\, musique...
X-WR-RELCALID:69319016
BEGIN:VEVENT
UID:69319016//41892619//2026-05-20//12:00:00Z
DTSTART:20260520T120000Z
DTEND:20260520T143000Z
DTSTAMP:20260422T120900Z
TZID:Europe-Paris
SUMMARY:Pollinisateurs en action
DESCRIPTION:jeux en autonomie sur la pollinisation et les abeilles Voir plu
 s: https://openagenda.com/agenda-culturel-scene-des-mondes/events/pollinis
 ateurs-en-action
STATUS:CONFIRMED
URL:https://openagenda.com/agenda-culturel-scene-des-mondes/events/pollinis
 ateurs-en-action
LAST-MODIFIED:20260409T134000Z
LOCATION:Pôle Culturel et Scientifique - 155 rue du faubourg de Rochebelle 
 30100 Alès
GEO:44.130064;4.068028
ORGANIZER:OA
END:VEVENT
END:VCALENDAR