BEGIN:VCALENDAR
VERSION:2.0
PRODID:-//Agenda Culturel Scène des Mondes//agenda::fr
METHOD:PUBLISH
X-WR-CALNAME:Agenda Culturel Scène des Mondes
X-WR-CALDESC:Toute l'actualité culturelle d'Alès et de son agglomération : conférences\, spectacles\, expositions\, musique...
X-WR-RELCALID:69319016
BEGIN:VEVENT
UID:69319016//31065146//2026-05-23//18:00:00Z
DTSTART:20260523T180000Z
DTEND:20260523T200000Z
DTSTAMP:20260422T140800Z
TZID:Europe-Paris
SUMMARY:Nuit européenne des musées - Visite guidée nocturne
DESCRIPTION:Une façon différente de découvrir la mine. Voir plus: https://o
 penagenda.com/agenda-culturel-scene-des-mondes/events/nuit-europeenne-des-
 musees-visite-guidee-nocturne
STATUS:CONFIRMED
URL:https://openagenda.com/agenda-culturel-scene-des-mondes/events/nuit-eur
 opeenne-des-musees-visite-guidee-nocturne
LAST-MODIFIED:20260410T085400Z
LOCATION:Maison du Mineur - Rue Victor Fumat\, 30110 La Grand'Combe
GEO:44.22069;4.034158
ORGANIZER:OA
END:VEVENT
END:VCALENDAR