BEGIN:VCALENDAR
VERSION:2.0
PRODID:-//Agenda Culturel Scène des Mondes//agenda::fr
METHOD:PUBLISH
X-WR-CALNAME:Agenda Culturel Scène des Mondes
X-WR-CALDESC:Toute l'actualité culturelle d'Alès et de son agglomération : conférences\, spectacles\, expositions\, musique...
X-WR-RELCALID:69319016
BEGIN:VEVENT
UID:69319016//26224968//2026-05-23//16:00:00Z
DTSTART:20260523T160000Z
DTEND:20260523T190000Z
DTSTAMP:20260422T140800Z
TZID:Europe-Paris
SUMMARY:Nuit européenne des musées
DESCRIPTION:Visites\, chants et ateliers vous seront proposés durant cette 
 nouvelle édition de la Nuit européenne des musées 2026 de 18h à 21h Voir p
 lus: https://openagenda.com/agenda-culturel-scene-des-mondes/events/nuit-e
 uropeenne-des-musees-9629532
STATUS:CONFIRMED
URL:https://openagenda.com/agenda-culturel-scene-des-mondes/events/nuit-eur
 opeenne-des-musees-9629532
LAST-MODIFIED:20260408T144500Z
LOCATION:Musée PAB - 52 montée des Lauriers\, 30100 Alès
GEO:44.130742;4.069285
ORGANIZER:OA
END:VEVENT
END:VCALENDAR