BEGIN:VCALENDAR
VERSION:2.0
PRODID:-//Agenda Culturel Scène des Mondes//agenda::fr
METHOD:PUBLISH
X-WR-CALNAME:Agenda Culturel Scène des Mondes
X-WR-CALDESC:Toute l'actualité culturelle d'Alès et de son agglomération : conférences\, spectacles\, expositions\, musique...
X-WR-RELCALID:69319016
BEGIN:VEVENT
UID:69319016//97009456//2026-05-23//15:30:00Z
DTSTART:20260523T153000Z
DTEND:20260523T180000Z
DTSTAMP:20260422T140800Z
TZID:Europe-Paris
SUMMARY:Nuit européenne des musées
DESCRIPTION:Nocturne\, jeux\, visites et exposition vous seront proposés du
 rant cette nouvelle édition de la Nuit européenne des musées 2026 de 18h à
  21h Voir plus: https://openagenda.com/agenda-culturel-scene-des-mondes/ev
 ents/nuit-europeenne-des-musees-5893513
STATUS:CONFIRMED
URL:https://openagenda.com/agenda-culturel-scene-des-mondes/events/nuit-eur
 opeenne-des-musees-5893513
LAST-MODIFIED:20260409T070500Z
LOCATION:Maison Rouge – Musée des vallées cévenoles - 5 rue de l’Industrie\
 , 30270 Saint-Jean-du-Gard
GEO:44.104056;3.885587
ORGANIZER:OA
END:VEVENT
END:VCALENDAR