BEGIN:VCALENDAR
VERSION:2.0
PRODID:-//Agenda Culturel Scène des Mondes//agenda::fr
METHOD:PUBLISH
X-WR-CALNAME:Agenda Culturel Scène des Mondes
X-WR-CALDESC:Toute l'actualité culturelle d'Alès et de son agglomération : conférences\, spectacles\, expositions\, musique...
X-WR-RELCALID:69319016
BEGIN:VEVENT
UID:69319016//26953192//2026-05-23//16:00:00Z
DTSTART:20260523T160000Z
DTEND:20260523T190000Z
DTSTAMP:20260422T121400Z
TZID:Europe-Paris
SUMMARY:Nuit européenne des musées - Visite guidée\, démonstration et ateli
 er
DESCRIPTION:Dans le cadre de la Nuit européenne des musées\, remontez le te
 mps lors d’une soirée dédiée à la découverte des origines de l’Homme et de
  son évolution. Voir plus: https://openagenda.com/agenda-culturel-scene-de
 s-mondes/events/nuit-europeenne-des-musees-3154614
STATUS:CONFIRMED
URL:https://openagenda.com/agenda-culturel-scene-des-mondes/events/nuit-eur
 opeenne-des-musees-3154614
LAST-MODIFIED:20260409T135700Z
LOCATION:Préhistorama - 75 chemin de Panissière\, 30340 Rousson
GEO:44.205396;4.131763
ORGANIZER:OA
END:VEVENT
END:VCALENDAR