BEGIN:VCALENDAR
VERSION:2.0
PRODID:-//Agenda Culturel Scène des Mondes//agenda::fr
METHOD:PUBLISH
X-WR-CALNAME:Agenda Culturel Scène des Mondes
X-WR-CALDESC:Toute l'actualité culturelle d'Alès et de son agglomération : conférences\, spectacles\, expositions\, musique...
X-WR-RELCALID:69319016
BEGIN:VEVENT
UID:69319016//25655074//2026-06-06//19:00:00Z
DTSTART:20260606T190000Z
DTEND:20260606T203000Z
DTSTAMP:20260422T141400Z
TZID:Europe-Paris
SUMMARY:Michelle David & The True-tones
DESCRIPTION:Michelle David (voix)\, Paul Willemsen (guitare\, basse\, percu
 ssions)\, Onno Smit (guitare\, basse) et Bas Bouma (batterie) Voir plus: h
 ttps://openagenda.com/agenda-culturel-scene-des-mondes/events/michelle-dav
 id-and-the-true-tones-6692056
STATUS:CONFIRMED
URL:https://openagenda.com/agenda-culturel-scene-des-mondes/events/michelle
 -david-and-the-true-tones-6692056
LAST-MODIFIED:20251223T162300Z
LOCATION:Mas des Justes - 30580 St-Just-et-Vacquières
GEO:44.099961;4.236111
ORGANIZER:OA
END:VEVENT
END:VCALENDAR