BEGIN:VCALENDAR
VERSION:2.0
PRODID:-//Agenda Culturel Scène des Mondes//agenda::fr
METHOD:PUBLISH
X-WR-CALNAME:Agenda Culturel Scène des Mondes
X-WR-CALDESC:Toute l'actualité culturelle d'Alès et de son agglomération : conférences\, spectacles\, expositions\, musique...
X-WR-RELCALID:69319016
BEGIN:VEVENT
UID:69319016//11224558//2026-04-04//08:00:00Z
DTSTART:20260404T080000Z
DTEND:20260404T110000Z
DTSTAMP:20260422T084700Z
TZID:Europe-Paris
SUMMARY:Marielle Dormoy et Roland Fruytier
DESCRIPTION:sculpture / peinture Voir plus: https://openagenda.com/agenda-c
 ulturel-scene-des-mondes/events/marielle-dormoy-et-roland-fruytier
STATUS:CONFIRMED
URL:https://openagenda.com/agenda-culturel-scene-des-mondes/events/marielle
 -dormoy-et-roland-fruytier
LAST-MODIFIED:20260326T134400Z
LOCATION:L'Imprévue - 3\, Rue du Général Lafont\, 30270 Saint-Jean-du-Gard
GEO:44.104866;3.887199
ORGANIZER:OA
END:VEVENT
END:VCALENDAR