BEGIN:VCALENDAR
VERSION:2.0
PRODID:-//Agenda Culturel Scène des Mondes//agenda::fr
METHOD:PUBLISH
X-WR-CALNAME:Agenda Culturel Scène des Mondes
X-WR-CALDESC:Toute l'actualité culturelle d'Alès et de son agglomération : conférences\, spectacles\, expositions\, musique...
X-WR-RELCALID:69319016
BEGIN:VEVENT
UID:69319016//44357997//2026-05-28//17:00:00Z
DTSTART:20260528T170000Z
DTEND:20260528T191500Z
DTSTAMP:20260422T141400Z
TZID:Europe-Paris
SUMMARY:Les Trois mousquetaires - Saison 1\, 2 et 3
DESCRIPTION:Collectif 49701 / Clara Hédouin et Jade Herbulot Voir plus: htt
 ps://openagenda.com/agenda-culturel-scene-des-mondes/events/les-trois-mous
 quetaires-saison-1-2-et-3
STATUS:CONFIRMED
URL:https://openagenda.com/agenda-culturel-scene-des-mondes/events/les-troi
 s-mousquetaires-saison-1-2-et-3
LAST-MODIFIED:20251223T162400Z
LOCATION:Cour du Fort Vauban - Boulevard Vauban\, 30100 Alès
GEO:44.125889;4.077298
ORGANIZER:OA
END:VEVENT
END:VCALENDAR