BEGIN:VCALENDAR
VERSION:2.0
PRODID:-//Agenda Culturel Scène des Mondes//agenda::fr
METHOD:PUBLISH
X-WR-CALNAME:Agenda Culturel Scène des Mondes
X-WR-CALDESC:Toute l'actualité culturelle d'Alès et de son agglomération : conférences\, spectacles\, expositions\, musique...
X-WR-RELCALID:69319016
BEGIN:VEVENT
UID:69319016//79833793//2026-04-25//13:00:00Z
DTSTART:20260425T130000Z
DTEND:20260425T150000Z
DTSTAMP:20260420T064200Z
TZID:Europe-Paris
SUMMARY:Les Mini-Assemblée | Quartier de Rochebelle 2/5
DESCRIPTION:Racontez votre quartier et parlez des histoires dont vous êtes 
 les héros\, en compagnie d'Arthur Ribo\, maître parolier et poète urbain !
  Voir plus: https://openagenda.com/agenda-culturel-scene-des-mondes/events
 /les-mini-assemblee-or-quartier-de-rochebelle-25
STATUS:CONFIRMED
URL:https://openagenda.com/agenda-culturel-scene-des-mondes/events/les-mini
 -assemblee-or-quartier-de-rochebelle-25
LAST-MODIFIED:20260312T152100Z
LOCATION:Quartier de Rochebelle - 52 montée des Lauriers\, 30100 Alès
GEO:44.130742;4.069285
ORGANIZER:OA
END:VEVENT
END:VCALENDAR