BEGIN:VCALENDAR
VERSION:2.0
PRODID:-//Agenda Culturel Scène des Mondes//agenda::fr
METHOD:PUBLISH
X-WR-CALNAME:Agenda Culturel Scène des Mondes
X-WR-CALDESC:Toute l'actualité culturelle d'Alès et de son agglomération : conférences\, spectacles\, expositions\, musique...
X-WR-RELCALID:69319016
BEGIN:VEVENT
UID:69319016//50507667//2026-06-10//12:00:00Z
DTSTART:20260610T120000Z
DTEND:20260610T140000Z
DTSTAMP:20260424T115900Z
TZID:Europe-Paris
SUMMARY:Les Mercredis du Pôle " Bouquet éternel "
DESCRIPTION:Atelier au jardin Voir plus: https://openagenda.com/agenda-cult
 urel-scene-des-mondes/events/les-mercredis-du-pole-bouquet-eternel
STATUS:CONFIRMED
URL:https://openagenda.com/agenda-culturel-scene-des-mondes/events/les-merc
 redis-du-pole-bouquet-eternel
LAST-MODIFIED:20260424T080400Z
LOCATION:Pôle culturel et scientifique de Rochebelle - 155 faubourg de Roch
 ebelle\, 30100 Alès
GEO:44.130064;4.068028
ORGANIZER:OA
END:VEVENT
END:VCALENDAR