BEGIN:VCALENDAR
VERSION:2.0
PRODID:-//Agenda Culturel Scène des Mondes//agenda::fr
METHOD:PUBLISH
X-WR-CALNAME:Agenda Culturel Scène des Mondes
X-WR-CALDESC:Toute l'actualité culturelle d'Alès et de son agglomération : conférences\, spectacles\, expositions\, musique...
X-WR-RELCALID:69319016
BEGIN:VEVENT
UID:69319016//51993889//2026-04-22//12:00:00Z
DTSTART:20260422T120000Z
DTEND:20260422T143000Z
DTSTAMP:20260422T101000Z
TZID:Europe-Paris
SUMMARY:Les gardiens de la nature
DESCRIPTION:jeux en autonomie sur la biodiversité et la protection de la na
 ture Voir plus: https://openagenda.com/agenda-culturel-scene-des-mondes/ev
 ents/les-gardiens-de-la-nature
STATUS:CONFIRMED
URL:https://openagenda.com/agenda-culturel-scene-des-mondes/events/les-gard
 iens-de-la-nature
LAST-MODIFIED:20260126T104800Z
LOCATION:Pôle Culturel et Scientifique - 155 rue du faubourg de Rochebelle 
 30100 Alès
GEO:44.130064;4.068028
ORGANIZER:OA
END:VEVENT
END:VCALENDAR