BEGIN:VCALENDAR
VERSION:2.0
PRODID:-//Agenda Culturel Scène des Mondes//agenda::fr
METHOD:PUBLISH
X-WR-CALNAME:Agenda Culturel Scène des Mondes
X-WR-CALDESC:Toute l'actualité culturelle d'Alès et de son agglomération : conférences\, spectacles\, expositions\, musique...
X-WR-RELCALID:69319016
BEGIN:VEVENT
UID:69319016//47450408//2024-10-12//17:00:00Z
DTSTART:20241012T170000Z
DTEND:20241012T193000Z
DTSTAMP:20260424T120200Z
TZID:Europe-Paris
SUMMARY:Les contes bleus du Vin
DESCRIPTION:Proposé par l’Office Municipal de la Culture de Saint-Julien-le
 s-Rosiers. Voir plus: https://openagenda.com/agenda-culturel-scene-des-mon
 des/events/les-contes-bleus-du-vin
STATUS:CONFIRMED
URL:https://openagenda.com/agenda-culturel-scene-des-mondes/events/les-cont
 es-bleus-du-vin
LAST-MODIFIED:20241011T133900Z
LOCATION:Salle Biscarat - Avenue des Mimosas\, 30340 Saint-Julien-les-Rosie
 rs
GEO:44.171387;4.104921
ORGANIZER:OA
END:VEVENT
END:VCALENDAR