BEGIN:VCALENDAR
VERSION:2.0
PRODID:-//Agenda Culturel Scène des Mondes//agenda::fr
METHOD:PUBLISH
X-WR-CALNAME:Agenda Culturel Scène des Mondes
X-WR-CALDESC:Toute l'actualité culturelle d'Alès et de son agglomération : conférences\, spectacles\, expositions\, musique...
X-WR-RELCALID:69319016
BEGIN:VEVENT
UID:69319016//2864924//2026-05-05//18:30:00Z
DTSTART:20260505T183000Z
DTEND:20260505T200000Z
DTSTAMP:20260422T122100Z
TZID:Europe-Paris
SUMMARY:L’écriture ou la vie
DESCRIPTION:Jorge Semprún / Jean-Baptiste Sastre / Hiam Abbass Voir plus: h
 ttps://openagenda.com/agenda-culturel-scene-des-mondes/events/lecriture-ou
 -la-vie-6748499
STATUS:CONFIRMED
URL:https://openagenda.com/agenda-culturel-scene-des-mondes/events/lecritur
 e-ou-la-vie-6748499
LAST-MODIFIED:20251223T162500Z
LOCATION:Le Cratère à la Prairie - Stade Maurice Laurent Alès
GEO:44.119164;4.090289
ORGANIZER:OA
END:VEVENT
END:VCALENDAR