BEGIN:VCALENDAR
VERSION:2.0
PRODID:-//Agenda Culturel Scène des Mondes//agenda::fr
METHOD:PUBLISH
X-WR-CALNAME:Agenda Culturel Scène des Mondes
X-WR-CALDESC:Toute l'actualité culturelle d'Alès et de son agglomération : conférences\, spectacles\, expositions\, musique...
X-WR-RELCALID:69319016
BEGIN:VEVENT
UID:69319016//56166407//2026-05-05//18:30:00Z
DTSTART:20260505T183000Z
DTEND:20260505T193000Z
DTSTAMP:20260424T115900Z
TZID:Europe-Paris
SUMMARY:L'ÉCRITURE OU LA VIE
DESCRIPTION:Les élèves de la classe de théâtre du conservatoire à rayonneme
 nt intercommunal Maurice André participent à la création d’une œuvre avec 
 Jean-Baptiste Sastre. Voir plus: https://openagenda.com/agenda-culturel-sc
 ene-des-mondes/events/lecriture-ou-la-vie-1747925
STATUS:CONFIRMED
URL:https://openagenda.com/agenda-culturel-scene-des-mondes/events/lecritur
 e-ou-la-vie-1747925
LAST-MODIFIED:20260423T150900Z
LOCATION:Le Cratère à la Prairie - Stade Maurice Laurent Alès
GEO:44.119164;4.090289
ORGANIZER:OA
END:VEVENT
END:VCALENDAR