BEGIN:VCALENDAR
VERSION:2.0
PRODID:-//Agenda Culturel Scène des Mondes//agenda::fr
METHOD:PUBLISH
X-WR-CALNAME:Agenda Culturel Scène des Mondes
X-WR-CALDESC:Toute l'actualité culturelle d'Alès et de son agglomération : conférences\, spectacles\, expositions\, musique...
X-WR-RELCALID:69319016
BEGIN:VEVENT
UID:69319016//82699909//2026-04-29//12:30:00Z
DTSTART:20260429T123000Z
DTEND:20260429T143000Z
DTSTAMP:20260422T103900Z
TZID:Europe-Paris
SUMMARY:Le système solaire
DESCRIPTION:Atelier de découverte de l'astronomie Voir plus: https://openag
 enda.com/agenda-culturel-scene-des-mondes/events/le-systeme-solaire-662410
STATUS:CONFIRMED
URL:https://openagenda.com/agenda-culturel-scene-des-mondes/events/le-syste
 me-solaire-662410
LAST-MODIFIED:20260112T074700Z
LOCATION:École municipale d’Astronomie - Pôle Culturel et Scientifique\, 15
 5 rue du Faubourg de Rochebelle\, 30100 Alès
GEO:44.130207;4.068889
ORGANIZER:OA
END:VEVENT
END:VCALENDAR