BEGIN:VCALENDAR
VERSION:2.0
PRODID:-//Agenda Culturel Scène des Mondes//agenda::fr
METHOD:PUBLISH
X-WR-CALNAME:Agenda Culturel Scène des Mondes
X-WR-CALDESC:Toute l'actualité culturelle d'Alès et de son agglomération : conférences\, spectacles\, expositions\, musique...
X-WR-RELCALID:69319016
BEGIN:VEVENT
UID:69319016//94418885//2026-06-24//12:30:00Z
DTSTART:20260624T123000Z
DTEND:20260624T143000Z
DTSTAMP:20260422T121900Z
TZID:Europe-Paris
SUMMARY:Le Soleil\, notre fabuleuse étoile
DESCRIPTION:Atelier de découverte de l'Astronomie Voir plus: https://openag
 enda.com/agenda-culturel-scene-des-mondes/events/le-soleil-notre-fabuleuse
 -etoile
STATUS:CONFIRMED
URL:https://openagenda.com/agenda-culturel-scene-des-mondes/events/le-solei
 l-notre-fabuleuse-etoile
LAST-MODIFIED:20260112T074900Z
LOCATION:École municipale d’Astronomie - Pôle Culturel et Scientifique\, 15
 5 rue du Faubourg de Rochebelle\, 30100 Alès
GEO:44.130207;4.068889
ORGANIZER:OA
END:VEVENT
END:VCALENDAR