BEGIN:VCALENDAR
VERSION:2.0
PRODID:-//Agenda Culturel Scène des Mondes//agenda::fr
METHOD:PUBLISH
X-WR-CALNAME:Agenda Culturel Scène des Mondes
X-WR-CALDESC:Toute l'actualité culturelle d'Alès et de son agglomération : conférences\, spectacles\, expositions\, musique...
X-WR-RELCALID:69319016
BEGIN:VEVENT
UID:69319016//10789146//2026-02-01//13:00:00Z
DTSTART:20260201T130000Z
DTEND:20260201T170000Z
DTSTAMP:20260422T103900Z
TZID:Europe-Paris
SUMMARY:Le centenaire de la naissance de Michel Butor
DESCRIPTION:Le Musée-bibliothèque Pierre André Benoit se joint à l’archipel
  Butor pour fêter en cette année 2026 le centenaire de la naissance de Mic
 hel Butor Voir plus: https://openagenda.com/agenda-culturel-scene-des-mond
 es/events/le-centenaire-de-la-naissance-de-michel-butor
STATUS:CONFIRMED
URL:https://openagenda.com/agenda-culturel-scene-des-mondes/events/le-cente
 naire-de-la-naissance-de-michel-butor
LAST-MODIFIED:20260107T080600Z
LOCATION:Musée PAB - 52 montée des Lauriers\, 30100 Alès
GEO:44.130742;4.069285
ORGANIZER:OA
END:VEVENT
END:VCALENDAR