BEGIN:VCALENDAR
VERSION:2.0
PRODID:-//Agenda Culturel Scène des Mondes//agenda::fr
METHOD:PUBLISH
X-WR-CALNAME:Agenda Culturel Scène des Mondes
X-WR-CALDESC:Toute l'actualité culturelle d'Alès et de son agglomération : conférences\, spectacles\, expositions\, musique...
X-WR-RELCALID:69319016
BEGIN:VEVENT
UID:69319016//38218189//2026-05-05//16:30:00Z
DTSTART:20260505T163000Z
DTEND:20260505T173000Z
DTSTAMP:20260422T103000Z
TZID:Europe-Paris
SUMMARY:Le bistrot des ethnologues
DESCRIPTION:Soirée-débat : À la recherche d’un temps libéré dans les collec
 tifs néo-paysans Voir plus: https://openagenda.com/agenda-culturel-scene-d
 es-mondes/events/le-bistrot-des-ethnologues
STATUS:CONFIRMED
URL:https://openagenda.com/agenda-culturel-scene-des-mondes/events/le-bistr
 ot-des-ethnologues
LAST-MODIFIED:20260408T144500Z
LOCATION:Maison Rouge – Musée des vallées cévenoles - 5 rue de l’Industrie\
 , 30270 Saint-Jean-du-Gard
GEO:44.104056;3.885587
ORGANIZER:OA
END:VEVENT
END:VCALENDAR