BEGIN:VCALENDAR
VERSION:2.0
PRODID:-//Agenda Culturel Scène des Mondes//agenda::fr
METHOD:PUBLISH
X-WR-CALNAME:Agenda Culturel Scène des Mondes
X-WR-CALDESC:Toute l'actualité culturelle d'Alès et de son agglomération : conférences\, spectacles\, expositions\, musique...
X-WR-RELCALID:69319016
BEGIN:VEVENT
UID:69319016//81449182//2026-03-18//13:00:00Z
DTSTART:20260318T130000Z
DTEND:20260318T170000Z
DTSTAMP:20260419T130700Z
TZID:Europe-Paris
SUMMARY:L'aventure est au musée
DESCRIPTION:7 personnages pour une quête à l'élixir de soie Voir plus: http
 s://openagenda.com/agenda-culturel-scene-des-mondes/events/laventure-est-a
 u-musee
STATUS:CONFIRMED
URL:https://openagenda.com/agenda-culturel-scene-des-mondes/events/laventur
 e-est-au-musee
LAST-MODIFIED:20260319T133500Z
LOCATION:Maison Rouge – Musée des vallées cévenoles - 5 rue de l’Industrie\
 , 30270 Saint-Jean-du-Gard
GEO:44.104056;3.885587
ORGANIZER:OA
END:VEVENT
END:VCALENDAR