BEGIN:VCALENDAR
VERSION:2.0
PRODID:-//Agenda Culturel Scène des Mondes//agenda::fr
METHOD:PUBLISH
X-WR-CALNAME:Agenda Culturel Scène des Mondes
X-WR-CALDESC:Toute l'actualité culturelle d'Alès et de son agglomération : conférences\, spectacles\, expositions\, musique...
X-WR-RELCALID:69319016
BEGIN:VEVENT
UID:69319016//93808668//2026-07-01//13:00:00Z
DTSTART:20260701T130000Z
DTEND:20260701T160000Z
DTSTAMP:20260420T175000Z
TZID:Europe-Paris
SUMMARY:La Verrerie l'Été • Été culturel 2026
DESCRIPTION:Des rendez-vous vitaminés et joyeux avec au programme : des ate
 liers\, des spectacles et une grande fête pour célébrer l’arrivée de l’été
  et clôturer la saison en beauté ! Voir plus: https://openagenda.com/agend
 a-culturel-scene-des-mondes/events/la-verrerie-lete-ete-culturel-2026
STATUS:CONFIRMED
URL:https://openagenda.com/agenda-culturel-scene-des-mondes/events/la-verre
 rie-lete-ete-culturel-2026
LAST-MODIFIED:20260115T081800Z
LOCATION:La Verrerie\, Pôle National Cirque Occitanie - 155 rue Faubourg de
  Rochebelle\, 30100 Alès
GEO:44.130064;4.068028
ORGANIZER:OA
END:VEVENT
END:VCALENDAR