BEGIN:VCALENDAR
VERSION:2.0
PRODID:-//Agenda Culturel Scène des Mondes//agenda::fr
METHOD:PUBLISH
X-WR-CALNAME:Agenda Culturel Scène des Mondes
X-WR-CALDESC:Toute l'actualité culturelle d'Alès et de son agglomération : conférences\, spectacles\, expositions\, musique...
X-WR-RELCALID:69319016
BEGIN:VEVENT
UID:69319016//22144659//2025-10-11//08:00:00Z
DTSTART:20251011T080000Z
DTEND:20251011T100000Z
DTSTAMP:20260422T141400Z
TZID:Europe-Paris
SUMMARY:La respiration du samedi
DESCRIPTION:MÉDITATION & PRATIQUE ARTISTIQUE Voir plus: https://openagenda.
 com/agenda-culturel-scene-des-mondes/events/la-respiration-du-samedi
STATUS:CONFIRMED
URL:https://openagenda.com/agenda-culturel-scene-des-mondes/events/la-respi
 ration-du-samedi
LAST-MODIFIED:20260408T142500Z
LOCATION:Musée PAB - 52 montée des Lauriers\, 30100 Alès
GEO:44.130742;4.069285
ORGANIZER:OA
END:VEVENT
END:VCALENDAR