BEGIN:VCALENDAR
VERSION:2.0
PRODID:-//Agenda Culturel Scène des Mondes//agenda::fr
METHOD:PUBLISH
X-WR-CALNAME:Agenda Culturel Scène des Mondes
X-WR-CALDESC:Toute l'actualité culturelle d'Alès et de son agglomération : conférences\, spectacles\, expositions\, musique...
X-WR-RELCALID:69319016
BEGIN:VEVENT
UID:69319016//90793311//2026-05-23//17:00:00Z
DTSTART:20260523T170000Z
DTEND:20260523T200000Z
DTSTAMP:20260424T102200Z
TZID:Europe-Paris
SUMMARY:Nuit européenne des musées - Visite guidée
DESCRIPTION:À l’occasion de la Nuit européenne des musées\, la Mine Témoin 
 vous ouvre ses portes pour une soirée de découvertes et d’exploration. Voi
 r plus: https://openagenda.com/agenda-culturel-scene-des-mondes/events/la-
 nuit-europeenne-des-musees-a-la-mine-temoin
STATUS:CONFIRMED
URL:https://openagenda.com/agenda-culturel-scene-des-mondes/events/la-nuit-
 europeenne-des-musees-a-la-mine-temoin
LAST-MODIFIED:20260409T142400Z
LOCATION:Mine Témoin d’Alès - Chemin de la Cité Sainte Marie\, 30100 Alès
GEO:44.131043;4.067584
ORGANIZER:OA
END:VEVENT
END:VCALENDAR