BEGIN:VCALENDAR
VERSION:2.0
PRODID:-//Agenda Culturel Scène des Mondes//agenda::fr
METHOD:PUBLISH
X-WR-CALNAME:Agenda Culturel Scène des Mondes
X-WR-CALDESC:Toute l'actualité culturelle d'Alès et de son agglomération : conférences\, spectacles\, expositions\, musique...
X-WR-RELCALID:69319016
BEGIN:VEVENT
UID:69319016//62218391//2026-05-23//15:30:00Z
DTSTART:20260523T153000Z
DTEND:20260523T180000Z
DTSTAMP:20260422T140300Z
TZID:Europe-Paris
SUMMARY:la nuit des pichounets
DESCRIPTION:et si les objets pouvaient parler ? Voir plus: https://openagen
 da.com/agenda-culturel-scene-des-mondes/events/la-nuit-des-pichounets
STATUS:CONFIRMED
URL:https://openagenda.com/agenda-culturel-scene-des-mondes/events/la-nuit-
 des-pichounets
LAST-MODIFIED:20260319T133500Z
LOCATION:Maison Rouge – Musée des vallées cévenoles - 5 rue de l’Industrie\
 , 30270 Saint-Jean-du-Gard
GEO:44.104056;3.885587
ORGANIZER:OA
END:VEVENT
END:VCALENDAR