BEGIN:VCALENDAR
VERSION:2.0
PRODID:-//Agenda Culturel Scène des Mondes//agenda::fr
METHOD:PUBLISH
X-WR-CALNAME:Agenda Culturel Scène des Mondes
X-WR-CALDESC:Toute l'actualité culturelle d'Alès et de son agglomération : conférences\, spectacles\, expositions\, musique...
X-WR-RELCALID:69319016
BEGIN:VEVENT
UID:69319016//15114040//2026-05-23//16:00:00Z
DTSTART:20260523T160000Z
DTEND:20260523T190000Z
DTSTAMP:20260422T140800Z
TZID:Europe-Paris
SUMMARY:La classe\, l’œuvre
DESCRIPTION:Dans le cadre de la Nuit des Musées 2026\, les élèves de premiè
 res et terminales du Lycée Bellevue de Madame Tramoni-Venerandi réinterprè
 tent les œuvres du musée ! Voir plus: https://openagenda.com/agenda-cultur
 el-scene-des-mondes/events/la-classe-loeuvre-43730
STATUS:CONFIRMED
URL:https://openagenda.com/agenda-culturel-scene-des-mondes/events/la-class
 e-loeuvre-43730
LAST-MODIFIED:20260408T141500Z
LOCATION:Musée du Colombier - Rue Jean Mayodon\, 30100 Alès
GEO:44.129151;4.081047
ORGANIZER:OA
END:VEVENT
END:VCALENDAR