BEGIN:VCALENDAR
VERSION:2.0
PRODID:-//Agenda Culturel Scène des Mondes//agenda::fr
METHOD:PUBLISH
X-WR-CALNAME:Agenda Culturel Scène des Mondes
X-WR-CALDESC:Toute l'actualité culturelle d'Alès et de son agglomération : conférences\, spectacles\, expositions\, musique...
X-WR-RELCALID:69319016
BEGIN:VEVENT
UID:69319016//3914115//2026-09-19//07:30:00Z
DTSTART:20260919T073000Z
DTEND:20260919T103000Z
DTSTAMP:20260422T122000Z
TZID:Europe-Paris
SUMMARY:Journées européennes du patrimoine à la Mine Témoin
DESCRIPTION:Redécouvrez l'univers minier avec les visites guidées. Voir plu
 s: https://openagenda.com/agenda-culturel-scene-des-mondes/events/journees
 -europeennes-du-patrimoine-a-la-mine-temoin-197253
STATUS:CONFIRMED
URL:https://openagenda.com/agenda-culturel-scene-des-mondes/events/journees
 -europeennes-du-patrimoine-a-la-mine-temoin-197253
LAST-MODIFIED:20260213T085000Z
LOCATION:Mine Témoin d’Alès - Chemin de la Cité Sainte Marie\, 30100 Alès
GEO:44.131043;4.067584
ORGANIZER:OA
END:VEVENT
END:VCALENDAR