BEGIN:VCALENDAR
VERSION:2.0
PRODID:-//Agenda Culturel Scène des Mondes//agenda::fr
METHOD:PUBLISH
X-WR-CALNAME:Agenda Culturel Scène des Mondes
X-WR-CALDESC:Toute l'actualité culturelle d'Alès et de son agglomération : conférences\, spectacles\, expositions\, musique...
X-WR-RELCALID:69319016
BEGIN:VEVENT
UID:69319016//26814728//2026-09-19//08:00:00Z
DTSTART:20260919T080000Z
DTEND:20260919T160000Z
DTSTAMP:20260422T122000Z
TZID:Europe-Paris
SUMMARY:Journées européennes du patrimoine
DESCRIPTION:Explorez le Préhistorama Voir plus: https://openagenda.com/agen
 da-culturel-scene-des-mondes/events/journees-europeennes-du-patrimoine-918
 631
STATUS:CONFIRMED
URL:https://openagenda.com/agenda-culturel-scene-des-mondes/events/journees
 -europeennes-du-patrimoine-918631
LAST-MODIFIED:20260213T085000Z
LOCATION:Préhistorama - 75 chemin de Panissière\, 30340 Rousson
GEO:44.205396;4.131763
ORGANIZER:OA
END:VEVENT
END:VCALENDAR