BEGIN:VCALENDAR
VERSION:2.0
PRODID:-//Agenda Culturel Scène des Mondes//agenda::fr
METHOD:PUBLISH
X-WR-CALNAME:Agenda Culturel Scène des Mondes
X-WR-CALDESC:Toute l'actualité culturelle d'Alès et de son agglomération : conférences\, spectacles\, expositions\, musique...
X-WR-RELCALID:69319016
BEGIN:VEVENT
UID:69319016//52770622//2026-06-13//08:00:00Z
DTSTART:20260613T080000Z
DTEND:20260613T160000Z
DTSTAMP:20260422T122900Z
TZID:Europe-Paris
SUMMARY:Journées Européennes de l'Archéologie
DESCRIPTION:Participez aux Journées Européennes de l'Archéologie au Préhist
 orama et plongez dans l'univers fascinant de la préhistoire ! Voir plus: h
 ttps://openagenda.com/agenda-culturel-scene-des-mondes/events/journees-eur
 opeennes-de-larcheologie-8194507
STATUS:CONFIRMED
URL:https://openagenda.com/agenda-culturel-scene-des-mondes/events/journees
 -europeennes-de-larcheologie-8194507
LAST-MODIFIED:20260213T085100Z
LOCATION:Préhistorama - 75 chemin de Panissière\, 30340 Rousson
GEO:44.205396;4.131763
ORGANIZER:OA
END:VEVENT
END:VCALENDAR