BEGIN:VCALENDAR
VERSION:2.0
PRODID:-//Agenda Culturel Scène des Mondes//agenda::fr
METHOD:PUBLISH
X-WR-CALNAME:Agenda Culturel Scène des Mondes
X-WR-CALDESC:Toute l'actualité culturelle d'Alès et de son agglomération : conférences\, spectacles\, expositions\, musique...
X-WR-RELCALID:69319016
BEGIN:VEVENT
UID:69319016//27990636//2026-04-22//07:30:00Z
DTSTART:20260422T073000Z
DTEND:20260422T100000Z
DTSTAMP:20260422T103900Z
TZID:Europe-Paris
SUMMARY:Journée récréative
DESCRIPTION:Ateliers "Fresque vivante en mousse" et "Bombes à graines" Voir
  plus: https://openagenda.com/agenda-culturel-scene-des-mondes/events/jour
 nee-recreative-5126421
STATUS:CONFIRMED
URL:https://openagenda.com/agenda-culturel-scene-des-mondes/events/journee-
 recreative-5126421
LAST-MODIFIED:20260401T130600Z
LOCATION:Les Terrasses du Bosquet - Rue d’Hombres Firmas\, parc du Bosquet\
 , 30100 Alès
GEO:44.125345;4.074773
ORGANIZER:OA
END:VEVENT
END:VCALENDAR