BEGIN:VCALENDAR
VERSION:2.0
PRODID:-//Agenda Culturel Scène des Mondes//agenda::fr
METHOD:PUBLISH
X-WR-CALNAME:Agenda Culturel Scène des Mondes
X-WR-CALDESC:Toute l'actualité culturelle d'Alès et de son agglomération : conférences\, spectacles\, expositions\, musique...
X-WR-RELCALID:69319016
BEGIN:VEVENT
UID:69319016//41971399//2026-05-31//12:30:00Z
DTSTART:20260531T123000Z
DTEND:20260531T160000Z
DTSTAMP:20260422T140300Z
TZID:Europe-Paris
SUMMARY:Journée de l’orgue
DESCRIPTION:De 14h30 à 16h30\, découverte de l'orgue à tuyau. À 17h\, conce
 rt avec projection sur grand écran de Thierry Martin\, organiste de la cat
 hédrale d'Alès. Voir plus: https://openagenda.com/agenda-culturel-scene-de
 s-mondes/events/journee-de-lorgu
STATUS:CONFIRMED
URL:https://openagenda.com/agenda-culturel-scene-des-mondes/events/journee-
 de-lorgu
LAST-MODIFIED:20260420T093300Z
LOCATION:Église Saint-André - Rue Becmil\, 30340 Salindres
GEO:44.166777;4.159869
ORGANIZER:OA
END:VEVENT
END:VCALENDAR