BEGIN:VCALENDAR
VERSION:2.0
PRODID:-//Agenda Culturel Scène des Mondes//agenda::fr
METHOD:PUBLISH
X-WR-CALNAME:Agenda Culturel Scène des Mondes
X-WR-CALDESC:Toute l'actualité culturelle d'Alès et de son agglomération : conférences\, spectacles\, expositions\, musique...
X-WR-RELCALID:69319016
BEGIN:VEVENT
UID:69319016//66351493//2026-07-11//12:00:00Z
DTSTART:20260711T120000Z
DTEND:20260711T150000Z
DTSTAMP:20260420T175000Z
TZID:Europe-Paris
SUMMARY:Jonglez\, vous êtes filmé·e·s ! #2
DESCRIPTION:Stage jonglage & vidéo : Lancez vous dans un parcours de pratiq
 ue du jonglage au cœur des travaux de la Verrerie ! Voir plus: https://ope
 nagenda.com/agenda-culturel-scene-des-mondes/events/jonglez-vous-etes-film
 ees-2-2838867
STATUS:CONFIRMED
URL:https://openagenda.com/agenda-culturel-scene-des-mondes/events/jonglez-
 vous-etes-filmees-2-2838867
LAST-MODIFIED:20260121T151900Z
LOCATION:La Verrerie\, Pôle National Cirque Occitanie - 155 rue Faubourg de
  Rochebelle\, 30100 Alès
GEO:44.130064;4.068028
ORGANIZER:OA
END:VEVENT
END:VCALENDAR