BEGIN:VCALENDAR
VERSION:2.0
PRODID:-//Agenda Culturel Scène des Mondes//agenda::fr
METHOD:PUBLISH
X-WR-CALNAME:Agenda Culturel Scène des Mondes
X-WR-CALDESC:Toute l'actualité culturelle d'Alès et de son agglomération : conférences\, spectacles\, expositions\, musique...
X-WR-RELCALID:69319016
BEGIN:VEVENT
UID:69319016//42224256//2026-05-12//18:30:00Z
DTSTART:20260512T183000Z
DTEND:20260512T201000Z
DTSTAMP:20260422T122000Z
TZID:Europe-Paris
SUMMARY:Je ne me sens bien\, au fond\, que dans des lieux où je ne suis pas
  à ma place
DESCRIPTION:Arnaud Agnel / Double A Production Voir plus: https://openagend
 a.com/agenda-culturel-scene-des-mondes/events/je-ne-me-sens-bien-au-fond-q
 ue-dans-des-lieux-ou-je-ne-suis-pas-a-ma-place
STATUS:CONFIRMED
URL:https://openagenda.com/agenda-culturel-scene-des-mondes/events/je-ne-me
 -sens-bien-au-fond-que-dans-des-lieux-ou-je-ne-suis-pas-a-ma-place
LAST-MODIFIED:20251223T162500Z
LOCATION:Le Cratère à la Prairie - Stade Maurice Laurent Alès
GEO:44.119164;4.090289
ORGANIZER:OA
END:VEVENT
END:VCALENDAR