BEGIN:VCALENDAR
VERSION:2.0
PRODID:-//Agenda Culturel Scène des Mondes//agenda::fr
METHOD:PUBLISH
X-WR-CALNAME:Agenda Culturel Scène des Mondes
X-WR-CALDESC:Toute l'actualité culturelle d'Alès et de son agglomération : conférences\, spectacles\, expositions\, musique...
X-WR-RELCALID:69319016
BEGIN:VEVENT
UID:69319016//70151468//2026-05-20//15:00:00Z
DTSTART:20260520T150000Z
DTEND:20260520T160000Z
DTSTAMP:20260422T140800Z
TZID:Europe-Paris
SUMMARY:Invitation au Voyage : de la Géorgie à la France
DESCRIPTION:L'Ensemble de Musiques du Monde du Conservatoire d'Alès\, placé
  sous la direction d'Oleksandr Movchan\, a le plaisir de vous convier à un
 e odyssée musicale et artistique exceptionnelle. Voir plus: https://openag
 enda.com/agenda-culturel-scene-des-mondes/events/invitation-au-voyage-de-l
 a-georgie-a-la-france
STATUS:CONFIRMED
URL:https://openagenda.com/agenda-culturel-scene-des-mondes/events/invitati
 on-au-voyage-de-la-georgie-a-la-france
LAST-MODIFIED:20260408T141400Z
LOCATION:Musée PAB - Parc - 52 montée des Lauriers\, 30100 Alès
GEO:44.130742;4.069285
ORGANIZER:OA
END:VEVENT
END:VCALENDAR