BEGIN:VCALENDAR
VERSION:2.0
PRODID:-//Agenda Culturel Scène des Mondes//agenda::fr
METHOD:PUBLISH
X-WR-CALNAME:Agenda Culturel Scène des Mondes
X-WR-CALDESC:Toute l'actualité culturelle d'Alès et de son agglomération : conférences\, spectacles\, expositions\, musique...
X-WR-RELCALID:69319016
BEGIN:VEVENT
UID:69319016//47312583//2026-04-26//08:00:00Z
DTSTART:20260426T080000Z
DTEND:20260426T150000Z
DTSTAMP:20260422T084700Z
TZID:Europe-Paris
SUMMARY:Initiation au vitrail Tiffany
DESCRIPTION:Atelier de 1 jour. Repartez avec votre vitrail terminé. Voir pl
 us: https://openagenda.com/agenda-culturel-scene-des-mondes/events/initiat
 ion-au-vitrail-tiffany
STATUS:CONFIRMED
URL:https://openagenda.com/agenda-culturel-scene-des-mondes/events/initiati
 on-au-vitrail-tiffany
LAST-MODIFIED:20260420T075600Z
LOCATION:Créativ'Conscience - 90 impasse des Chênes\, 30360 Martignargues
GEO:44.041071;4.179906
ORGANIZER:OA
END:VEVENT
END:VCALENDAR