BEGIN:VCALENDAR
VERSION:2.0
PRODID:-//Agenda Culturel Scène des Mondes//agenda::fr
METHOD:PUBLISH
X-WR-CALNAME:Agenda Culturel Scène des Mondes
X-WR-CALDESC:Toute l'actualité culturelle d'Alès et de son agglomération : conférences\, spectacles\, expositions\, musique...
X-WR-RELCALID:69319016
BEGIN:VEVENT
UID:69319016//14809150//2026-06-11//11:30:00Z
DTSTART:20260611T113000Z
DTEND:20260611T170000Z
DTSTAMP:20260420T174900Z
TZID:Europe-Paris
SUMMARY:inCIRCus\, Les 10 ans !
DESCRIPTION:Festival gratuit de cirque d'été Voir plus: https://openagenda.
 com/agenda-culturel-scene-des-mondes/events/incircus-les-10-ans
STATUS:CONFIRMED
URL:https://openagenda.com/agenda-culturel-scene-des-mondes/events/incircus
 -les-10-ans
LAST-MODIFIED:20260115T081800Z
LOCATION:La Verrerie\, Pôle National Cirque Occitanie - 155 rue Faubourg de
  Rochebelle\, 30100 Alès
GEO:44.130064;4.068028
ORGANIZER:OA
END:VEVENT
END:VCALENDAR