BEGIN:VCALENDAR
VERSION:2.0
PRODID:-//Agenda Culturel Scène des Mondes//agenda::fr
METHOD:PUBLISH
X-WR-CALNAME:Agenda Culturel Scène des Mondes
X-WR-CALDESC:Toute l'actualité culturelle d'Alès et de son agglomération : conférences\, spectacles\, expositions\, musique...
X-WR-RELCALID:69319016
BEGIN:VEVENT
UID:69319016//46716430//2026-03-18//09:30:00Z
DTSTART:20260318T093000Z
DTEND:20260318T101500Z
DTSTAMP:20260420T172500Z
TZID:Europe-Paris
SUMMARY:L'heure du conte
DESCRIPTION:Conte Voir plus: https://openagenda.com/agenda-culturel-scene-d
 es-mondes/events/heure-du-conte-7596289
STATUS:CONFIRMED
URL:https://openagenda.com/agenda-culturel-scene-des-mondes/events/heure-du
 -conte-7596289
LAST-MODIFIED:20260313T132700Z
LOCATION:Médiathèque Alphonse Daudet - Espace Maison des contes - 24 rue Ed
 gar Quinet\, 30100 Alès
GEO:44.123987;4.083278
ORGANIZER:OA
END:VEVENT
END:VCALENDAR