BEGIN:VCALENDAR
VERSION:2.0
PRODID:-//Agenda Culturel Scène des Mondes//agenda::fr
METHOD:PUBLISH
X-WR-CALNAME:Agenda Culturel Scène des Mondes
X-WR-CALDESC:Toute l'actualité culturelle d'Alès et de son agglomération : conférences\, spectacles\, expositions\, musique...
X-WR-RELCALID:69319016
BEGIN:VEVENT
UID:69319016//17989978//2026-05-22//07:00:00Z
DTSTART:20260522T070000Z
DTEND:20260522T140000Z
DTSTAMP:20260422T120900Z
TZID:Europe-Paris
SUMMARY:FIRA : Festival de la Randonnée en Cévennes
DESCRIPTION:Randonnée "Préhistoire autour du serre des Esplanades" Voir plu
 s: https://openagenda.com/agenda-culturel-scene-des-mondes/events/fira-fes
 tival-de-la-randonnee-en-cevennes-7221574
STATUS:CONFIRMED
URL:https://openagenda.com/agenda-culturel-scene-des-mondes/events/fira-fes
 tival-de-la-randonnee-en-cevennes-7221574
LAST-MODIFIED:20260410T085100Z
LOCATION:Préhistorama - 75 chemin de Panissière\, 30340 Rousson
GEO:44.205396;4.131763
ORGANIZER:OA
END:VEVENT
END:VCALENDAR