BEGIN:VCALENDAR
VERSION:2.0
PRODID:-//Agenda Culturel Scène des Mondes//agenda::fr
METHOD:PUBLISH
X-WR-CALNAME:Agenda Culturel Scène des Mondes
X-WR-CALDESC:Toute l'actualité culturelle d'Alès et de son agglomération : conférences\, spectacles\, expositions\, musique...
X-WR-RELCALID:69319016
BEGIN:VEVENT
UID:69319016//36667971//2026-05-22//08:00:00Z
DTSTART:20260522T080000Z
DTEND:20260522T160000Z
DTSTAMP:20260422T140800Z
TZID:Europe-Paris
SUMMARY:Fil Rouge
DESCRIPTION:L’association fil Rouge présente l’Art dans la rue sur le thème
  de l’arbre. Voir plus: https://openagenda.com/agenda-culturel-scene-des-m
 ondes/events/fil-rouge-55544
STATUS:CONFIRMED
URL:https://openagenda.com/agenda-culturel-scene-des-mondes/events/fil-roug
 e-55544
LAST-MODIFIED:20260408T144600Z
LOCATION:Maison Rouge – Musée des vallées cévenoles - 5 rue de l’Industrie\
 , 30270 Saint-Jean-du-Gard
GEO:44.104056;3.885587
ORGANIZER:OA
END:VEVENT
END:VCALENDAR