BEGIN:VCALENDAR
VERSION:2.0
PRODID:-//Agenda Culturel Scène des Mondes//agenda::fr
METHOD:PUBLISH
X-WR-CALNAME:Agenda Culturel Scène des Mondes
X-WR-CALDESC:Toute l'actualité culturelle d'Alès et de son agglomération : conférences\, spectacles\, expositions\, musique...
X-WR-RELCALID:69319016
BEGIN:VEVENT
UID:69319016//41726470//2026-06-04//08:00:00Z
DTSTART:20260604T080000Z
DTEND:20260604T170000Z
DTSTAMP:20260424T120200Z
TZID:Europe-Paris
SUMMARY:Festival Passeurs de Livres
DESCRIPTION:Les Passeurs de Livres est un festival qui réunit auteurs\, che
 rcheurs et public autour de rencontres\, de tables rondes et d’un salon du
  livre\, avec de nombreuses maisons d’édition et auteurs présents. Voir pl
 us: https://openagenda.com/agenda-culturel-scene-des-mondes/events/festiva
 l-passeurs-de-livres
STATUS:CONFIRMED
URL:https://openagenda.com/agenda-culturel-scene-des-mondes/events/festival
 -passeurs-de-livres
LAST-MODIFIED:20260311T084800Z
LOCATION:Parking couvert\, Avenue Carnot - Alès
GEO:44.121071;4.081745
ORGANIZER:OA
END:VEVENT
END:VCALENDAR