BEGIN:VCALENDAR
VERSION:2.0
PRODID:-//Agenda Culturel Scène des Mondes//agenda::fr
METHOD:PUBLISH
X-WR-CALNAME:Agenda Culturel Scène des Mondes
X-WR-CALDESC:Toute l'actualité culturelle d'Alès et de son agglomération : conférences\, spectacles\, expositions\, musique...
X-WR-RELCALID:69319016
BEGIN:VEVENT
UID:69319016//16375390//2026-06-04//07:00:00Z
DTSTART:20260604T070000Z
DTEND:20260604T160000Z
DTSTAMP:20260424T103200Z
TZID:Europe-Paris
SUMMARY:Festival Les Passeurs de Livres
DESCRIPTION:Le thème "Difficiles libertés" est au cœur de cette édition. Vo
 ir plus: https://openagenda.com/agenda-culturel-scene-des-mondes/events/fe
 stival-les-passeurs-de-livres-8319691
STATUS:CONFIRMED
URL:https://openagenda.com/agenda-culturel-scene-des-mondes/events/festival
 -les-passeurs-de-livres-8319691
LAST-MODIFIED:20260217T151400Z
LOCATION:Parking du Gardon - avenue carnot 30100 alès
GEO:44.12128;4.083084
ORGANIZER:OA
END:VEVENT
END:VCALENDAR