BEGIN:VCALENDAR
VERSION:2.0
PRODID:-//Agenda Culturel Scène des Mondes//agenda::fr
METHOD:PUBLISH
X-WR-CALNAME:Agenda Culturel Scène des Mondes
X-WR-CALDESC:Toute l'actualité culturelle d'Alès et de son agglomération : conférences\, spectacles\, expositions\, musique...
X-WR-RELCALID:69319016
BEGIN:VEVENT
UID:69319016//87162113//2026-07-24//16:00:00Z
DTSTART:20260724T160000Z
DTEND:20260724T215900Z
DTSTAMP:20260422T120900Z
TZID:Europe-Paris
SUMMARY:Festival Jazzoparc 2026
DESCRIPTION:Festival de jazz et musiques du monde à Anduze (Parc des Cordel
 iers) Voir plus: https://openagenda.com/agenda-culturel-scene-des-mondes/e
 vents/festival-jazzoparc-2026
STATUS:CONFIRMED
URL:https://openagenda.com/agenda-culturel-scene-des-mondes/events/festival
 -jazzoparc-2026
LAST-MODIFIED:20260412T165200Z
LOCATION:Parc des Cordeliers - Avenue Rollin\, 30140 Anduze
GEO:44.052601;3.9853
ORGANIZER:OA
END:VEVENT
END:VCALENDAR