BEGIN:VCALENDAR
VERSION:2.0
PRODID:-//Agenda Culturel Scène des Mondes//agenda::fr
METHOD:PUBLISH
X-WR-CALNAME:Agenda Culturel Scène des Mondes
X-WR-CALDESC:Toute l'actualité culturelle d'Alès et de son agglomération : conférences\, spectacles\, expositions\, musique...
X-WR-RELCALID:69319016
BEGIN:VEVENT
UID:69319016//49811406//2026-05-08//16:00:00Z
DTSTART:20260508T160000Z
DTEND:20260508T215900Z
DTSTAMP:20260422T121400Z
TZID:Europe-Paris
SUMMARY:Festival du Gardéschistan
DESCRIPTION:Festival de musiques actuelles et animations décalées Voir plus
 : https://openagenda.com/agenda-culturel-scene-des-mondes/events/festival-
 du-gardeschistan
STATUS:CONFIRMED
URL:https://openagenda.com/agenda-culturel-scene-des-mondes/events/festival
 -du-gardeschistan
LAST-MODIFIED:20260209T151300Z
LOCATION:Le Martinet - 30960 Le Martinet
GEO:44.253305;4.084455
ORGANIZER:OA
END:VEVENT
END:VCALENDAR