BEGIN:VCALENDAR
VERSION:2.0
PRODID:-//Agenda Culturel Scène des Mondes//agenda::fr
METHOD:PUBLISH
X-WR-CALNAME:Agenda Culturel Scène des Mondes
X-WR-CALDESC:Toute l'actualité culturelle d'Alès et de son agglomération : conférences\, spectacles\, expositions\, musique...
X-WR-RELCALID:69319016
BEGIN:VEVENT
UID:69319016//63067027//2026-05-23//08:00:00Z
DTSTART:20260523T080000Z
DTEND:20260523T190000Z
DTSTAMP:20260422T140800Z
TZID:Europe-Paris
SUMMARY:Festival des Jeux
DESCRIPTION:3ᵉ édition à Alès ! Voir plus: https://openagenda.com/agenda-cu
 lturel-scene-des-mondes/events/festival-des-jeux-2609135
STATUS:CONFIRMED
URL:https://openagenda.com/agenda-culturel-scene-des-mondes/events/festival
 -des-jeux-2609135
LAST-MODIFIED:20260417T075600Z
LOCATION:Pôle culturel et scientifique de Rochebelle - 155 faubourg de Roch
 ebelle\, 30100 Alès
GEO:44.130064;4.068028
ORGANIZER:OA
END:VEVENT
END:VCALENDAR