BEGIN:VCALENDAR
VERSION:2.0
PRODID:-//Agenda Culturel Scène des Mondes//agenda::fr
METHOD:PUBLISH
X-WR-CALNAME:Agenda Culturel Scène des Mondes
X-WR-CALDESC:Toute l'actualité culturelle d'Alès et de son agglomération : conférences\, spectacles\, expositions\, musique...
X-WR-RELCALID:69319016
BEGIN:VEVENT
UID:69319016//26735422//2026-04-21//12:00:00Z
DTSTART:20260421T120000Z
DTEND:20260421T153000Z
DTSTAMP:20260420T063400Z
TZID:Europe-Paris
SUMMARY:FESTIVAL DES CULTURES URBAINES
DESCRIPTION:initiation autour du rap/slam\, du break et du graffiti Voir pl
 us: https://openagenda.com/agenda-culturel-scene-des-mondes/events/festiva
 l-des-cultures-urbaines-3903362
STATUS:CONFIRMED
URL:https://openagenda.com/agenda-culturel-scene-des-mondes/events/festival
 -des-cultures-urbaines-3903362
LAST-MODIFIED:20260330T074700Z
LOCATION:Mediathèque Alphonse Daudet - Espace Atelier - 24 rue Edgar Quinet
 \, 30100 Alès
GEO:44.123987;4.083278
ORGANIZER:OA
END:VEVENT
END:VCALENDAR