BEGIN:VCALENDAR
VERSION:2.0
PRODID:-//Agenda Culturel Scène des Mondes//agenda::fr
METHOD:PUBLISH
X-WR-CALNAME:Agenda Culturel Scène des Mondes
X-WR-CALDESC:Toute l'actualité culturelle d'Alès et de son agglomération : conférences\, spectacles\, expositions\, musique...
X-WR-RELCALID:69319016
BEGIN:VEVENT
UID:69319016//93687065//2026-03-02//08:00:00Z
DTSTART:20260302T080000Z
DTEND:20260302T180000Z
DTSTAMP:20260422T084700Z
TZID:Europe-Paris
SUMMARY:Exposition “Lumières Nocturnes”
DESCRIPTION:Découvrez l’univers du photographe David Guerre. Clichés de pay
 sages\, traque orageuse\, photographie animalière\, … Les thèmes sont vari
 és. Voir plus: https://openagenda.com/agenda-culturel-scene-des-mondes/eve
 nts/exposition-lumieres-nocturnes
STATUS:CONFIRMED
URL:https://openagenda.com/agenda-culturel-scene-des-mondes/events/expositi
 on-lumieres-nocturnes
LAST-MODIFIED:20260218T091000Z
LOCATION:Fleur’T avec le dit vin - 574 route d’Uzès\, 30100 Alès
GEO:44.113566;4.105261
ORGANIZER:OA
END:VEVENT
END:VCALENDAR