BEGIN:VCALENDAR
VERSION:2.0
PRODID:-//Agenda Culturel Scène des Mondes//agenda::fr
METHOD:PUBLISH
X-WR-CALNAME:Agenda Culturel Scène des Mondes
X-WR-CALDESC:Toute l'actualité culturelle d'Alès et de son agglomération : conférences\, spectacles\, expositions\, musique...
X-WR-RELCALID:69319016
BEGIN:VEVENT
UID:69319016//56247204//2026-04-21//07:00:00Z
DTSTART:20260421T070000Z
DTEND:20260421T100000Z
DTSTAMP:20260422T140300Z
TZID:Europe-Paris
SUMMARY:Exposition "Lumières cévenoles"
DESCRIPTION:45 photographies couleur et noir et blanc\, des paysages d'auto
 mne de jour\, de nuit\, des forêts\, des oiseaux et des mammifères embléma
 tiques des Cévennes. Voir plus: https://openagenda.com/agenda-culturel-sce
 ne-des-mondes/events/exposition-lumieres-cevenoles
STATUS:CONFIRMED
URL:https://openagenda.com/agenda-culturel-scene-des-mondes/events/expositi
 on-lumieres-cevenoles
LAST-MODIFIED:20260324T152300Z
LOCATION:Médiathèque Germinal - 3 rue de la République\, 30110 La Grand-Com
 be
GEO:44.210397;4.030692
ORGANIZER:OA
END:VEVENT
END:VCALENDAR