BEGIN:VCALENDAR
VERSION:2.0
PRODID:-//Agenda Culturel Scène des Mondes//agenda::fr
METHOD:PUBLISH
X-WR-CALNAME:Agenda Culturel Scène des Mondes
X-WR-CALDESC:Toute l'actualité culturelle d'Alès et de son agglomération : conférences\, spectacles\, expositions\, musique...
X-WR-RELCALID:69319016
BEGIN:VEVENT
UID:69319016//51031138//2026-04-01//07:30:00Z
DTSTART:20260401T073000Z
DTEND:20260401T103000Z
DTSTAMP:20260422T140800Z
TZID:Europe-Paris
SUMMARY:Exposition "Les circuits courts : il y en a pour tous les goûts"
DESCRIPTION:Découvrez une exposition accessible à tous (de 12 à 99 ans) con
 sacrée aux circuits courts\, du producteur au consommateur\, conçue par la
  FD CIVAM du Gard. Voir plus: https://openagenda.com/agenda-culturel-scene
 -des-mondes/events/exposition-les-circuits-courts-il-y-en-a-pour-tous-les-
 gouts
STATUS:CONFIRMED
URL:https://openagenda.com/agenda-culturel-scene-des-mondes/events/expositi
 on-les-circuits-courts-il-y-en-a-pour-tous-les-gouts
LAST-MODIFIED:20260409T134000Z
LOCATION:Maison de la Figue - Les Terrasses du Château\, 30360 Vézénobres
GEO:44.052863;4.136296
ORGANIZER:OA
END:VEVENT
END:VCALENDAR