BEGIN:VCALENDAR
VERSION:2.0
PRODID:-//Agenda Culturel Scène des Mondes//agenda::fr
METHOD:PUBLISH
X-WR-CALNAME:Agenda Culturel Scène des Mondes
X-WR-CALDESC:Toute l'actualité culturelle d'Alès et de son agglomération : conférences\, spectacles\, expositions\, musique...
X-WR-RELCALID:69319016
BEGIN:VEVENT
UID:69319016//61360350//2026-04-24//16:30:00Z
DTSTART:20260424T163000Z
DTEND:20260424T180000Z
DTSTAMP:20260422T115800Z
TZID:Europe-Paris
SUMMARY:Exposition "Les Arts Présents"
DESCRIPTION:Une quinzaine de dessins et peintures de Laïs Diebold et une di
 zaine de tableaux et deux vidéos d’Éric Hengl. Voir plus: https://openagen
 da.com/agenda-culturel-scene-des-mondes/events/exposition-les-arts-present
 s
STATUS:CONFIRMED
URL:https://openagenda.com/agenda-culturel-scene-des-mondes/events/expositi
 on-les-arts-presents
LAST-MODIFIED:20260324T152200Z
LOCATION:Salle du Temple - Le Ranc\, 30140 Saint-Sébastien-d'Aigrefeuille
GEO:44.0979;3.993867
ORGANIZER:OA
END:VEVENT
END:VCALENDAR