BEGIN:VCALENDAR
VERSION:2.0
PRODID:-//Agenda Culturel Scène des Mondes//agenda::fr
METHOD:PUBLISH
X-WR-CALNAME:Agenda Culturel Scène des Mondes
X-WR-CALDESC:Toute l'actualité culturelle d'Alès et de son agglomération : conférences\, spectacles\, expositions\, musique...
X-WR-RELCALID:69319016
BEGIN:VEVENT
UID:69319016//23991652//2026-05-02//07:00:00Z
DTSTART:20260502T070000Z
DTEND:20260502T170000Z
DTSTAMP:20260422T120900Z
TZID:Europe-Paris
SUMMARY:Exposition "Couleurs & Lumières"
DESCRIPTION:Toujours en quête d’harmonie dans les teintes et les formes\, l
 ’artiste Sandrine Cathala-Descuns présente une série de peintures abstrait
 es et intuitives. Voir plus: https://openagenda.com/agenda-culturel-scene-
 des-mondes/events/exposition-couleurs-and-lumieres
STATUS:CONFIRMED
URL:https://openagenda.com/agenda-culturel-scene-des-mondes/events/expositi
 on-couleurs-and-lumieres
LAST-MODIFIED:20260413T085700Z
LOCATION:Fleur’T avec le dit vin - 574 route d’Uzès\, 30100 Alès
GEO:44.113566;4.105261
ORGANIZER:OA
END:VEVENT
END:VCALENDAR