BEGIN:VCALENDAR
VERSION:2.0
PRODID:-//Agenda Culturel Scène des Mondes//agenda::fr
METHOD:PUBLISH
X-WR-CALNAME:Agenda Culturel Scène des Mondes
X-WR-CALDESC:Toute l'actualité culturelle d'Alès et de son agglomération : conférences\, spectacles\, expositions\, musique...
X-WR-RELCALID:69319016
BEGIN:VEVENT
UID:69319016//75350451//2026-04-04//07:30:00Z
DTSTART:20260404T073000Z
DTEND:20260404T170000Z
DTSTAMP:20260422T103000Z
TZID:Europe-Paris
SUMMARY:Exposition : “Arts & Nature”
DESCRIPTION:Exposition de quatre œuvres conçues par des artistes plasticien
  et sculpteur\, inspirées et créées au sein de la Bambouseraie. Voir plus:
  https://openagenda.com/agenda-culturel-scene-des-mondes/events/exposition
 -arts-and-nature
STATUS:CONFIRMED
URL:https://openagenda.com/agenda-culturel-scene-des-mondes/events/expositi
 on-arts-and-nature
LAST-MODIFIED:20260309T110500Z
LOCATION:La Bambouseraie en Cévennes - 552 Montsauve\, 30140 Générargues
GEO:44.070876;3.980951
ORGANIZER:OA
END:VEVENT
END:VCALENDAR